BEGIN:VCALENDAR
VERSION:2.0
PRODID:-//Frauen und Mädchen Gesundheitszentrum Nürnberg e.V. - ECPv6.15.20//NONSGML v1.0//EN
CALSCALE:GREGORIAN
METHOD:PUBLISH
X-WR-CALNAME:Frauen und Mädchen Gesundheitszentrum Nürnberg e.V.
X-ORIGINAL-URL:https://www.fmgz-nuernberg.de
X-WR-CALDESC:Veranstaltungen für Frauen und Mädchen Gesundheitszentrum Nürnberg e.V.
REFRESH-INTERVAL;VALUE=DURATION:PT1H
X-Robots-Tag:noindex
X-PUBLISHED-TTL:PT1H
BEGIN:VTIMEZONE
TZID:Europe/Berlin
BEGIN:DAYLIGHT
TZOFFSETFROM:+0100
TZOFFSETTO:+0200
TZNAME:CEST
DTSTART:20250330T010000
END:DAYLIGHT
BEGIN:STANDARD
TZOFFSETFROM:+0200
TZOFFSETTO:+0100
TZNAME:CET
DTSTART:20251026T010000
END:STANDARD
BEGIN:DAYLIGHT
TZOFFSETFROM:+0100
TZOFFSETTO:+0200
TZNAME:CEST
DTSTART:20260329T010000
END:DAYLIGHT
BEGIN:STANDARD
TZOFFSETFROM:+0200
TZOFFSETTO:+0100
TZNAME:CET
DTSTART:20261025T010000
END:STANDARD
BEGIN:DAYLIGHT
TZOFFSETFROM:+0100
TZOFFSETTO:+0200
TZNAME:CEST
DTSTART:20270328T010000
END:DAYLIGHT
BEGIN:STANDARD
TZOFFSETFROM:+0200
TZOFFSETTO:+0100
TZNAME:CET
DTSTART:20271031T010000
END:STANDARD
END:VTIMEZONE
BEGIN:VEVENT
DTSTART;TZID=Europe/Berlin:20260425T100000
DTEND;TZID=Europe/Berlin:20260425T130000
DTSTAMP:20260425T022517
CREATED:20250807T110354Z
LAST-MODIFIED:20260304T114659Z
UID:2483-1777111200-1777122000@www.fmgz-nuernberg.de
SUMMARY:Arbeit an inneren Blockaden
DESCRIPTION:Der Workshop unterstützt dich dabei\, Scham & negative Glaubenssätze in Bezug auf deine Persönlichkeit & Sexualität zu erkennen und bietet dir Unterstützung\, diese zu lösen. \nKursleiterin: Jess Hager (Sexualberaterin) \nKurs Nr. 4/11 \nAnmeldung \nPreise: 21\,-/16\,- €
URL:https://www.fmgz-nuernberg.de/veranstaltung/innere-blockaden/
CATEGORIES:Für Körper und Seele
END:VEVENT
END:VCALENDAR