BEGIN:VCALENDAR
VERSION:2.0
PRODID:-//Frauen und Mädchen Gesundheitszentrum Nürnberg e.V. - ECPv6.15.20//NONSGML v1.0//EN
CALSCALE:GREGORIAN
METHOD:PUBLISH
X-ORIGINAL-URL:https://www.fmgz-nuernberg.de
X-WR-CALDESC:Veranstaltungen für Frauen und Mädchen Gesundheitszentrum Nürnberg e.V.
REFRESH-INTERVAL;VALUE=DURATION:PT1H
X-Robots-Tag:noindex
X-PUBLISHED-TTL:PT1H
BEGIN:VTIMEZONE
TZID:Europe/Berlin
BEGIN:DAYLIGHT
TZOFFSETFROM:+0100
TZOFFSETTO:+0200
TZNAME:CEST
DTSTART:20250330T010000
END:DAYLIGHT
BEGIN:STANDARD
TZOFFSETFROM:+0200
TZOFFSETTO:+0100
TZNAME:CET
DTSTART:20251026T010000
END:STANDARD
BEGIN:DAYLIGHT
TZOFFSETFROM:+0100
TZOFFSETTO:+0200
TZNAME:CEST
DTSTART:20260329T010000
END:DAYLIGHT
BEGIN:STANDARD
TZOFFSETFROM:+0200
TZOFFSETTO:+0100
TZNAME:CET
DTSTART:20261025T010000
END:STANDARD
BEGIN:DAYLIGHT
TZOFFSETFROM:+0100
TZOFFSETTO:+0200
TZNAME:CEST
DTSTART:20270328T010000
END:DAYLIGHT
BEGIN:STANDARD
TZOFFSETFROM:+0200
TZOFFSETTO:+0100
TZNAME:CET
DTSTART:20271031T010000
END:STANDARD
END:VTIMEZONE
BEGIN:VEVENT
DTSTART;TZID=Europe/Berlin:20260122T190000
DTEND;TZID=Europe/Berlin:20260122T203000
DTSTAMP:20260425T125609
CREATED:20250807T111437Z
LAST-MODIFIED:20260310T152646Z
UID:2516-1769108400-1769113800@www.fmgz-nuernberg.de
SUMMARY:Wildwuchs - Schnupperabend
DESCRIPTION:In Kontakt mit der Weisheit deines Körpers – Selbstheilungskompetenzen lernen mit Visualisierungen. Dein Körper weiß mehr als dein Verstand zu wissen glaubt. Komm und sprich doch mal mit deinem Körper. \nKursleiterin: Lorna Rechberg\, Wildwuchsberaterin \nKursnr. 1/8 \nAnmeldung\n \nPreise: 12.-/10.-€
URL:https://www.fmgz-nuernberg.de/veranstaltung/wildwuchs-coaching-jan/
LOCATION:FMGZ Nürnberg\, Fürther Straße 154 / RG\, Nürnberg\, 90429\, Deutschland
CATEGORIES:Informationsabende
END:VEVENT
END:VCALENDAR