BEGIN:VCALENDAR
VERSION:2.0
PRODID:-//Frauen und Mädchen Gesundheitszentrum Nürnberg e.V. - ECPv6.15.20//NONSGML v1.0//EN
CALSCALE:GREGORIAN
METHOD:PUBLISH
X-ORIGINAL-URL:https://www.fmgz-nuernberg.de
X-WR-CALDESC:Veranstaltungen für Frauen und Mädchen Gesundheitszentrum Nürnberg e.V.
REFRESH-INTERVAL;VALUE=DURATION:PT1H
X-Robots-Tag:noindex
X-PUBLISHED-TTL:PT1H
BEGIN:VTIMEZONE
TZID:Europe/Berlin
BEGIN:DAYLIGHT
TZOFFSETFROM:+0100
TZOFFSETTO:+0200
TZNAME:CEST
DTSTART:20250330T010000
END:DAYLIGHT
BEGIN:STANDARD
TZOFFSETFROM:+0200
TZOFFSETTO:+0100
TZNAME:CET
DTSTART:20251026T010000
END:STANDARD
BEGIN:DAYLIGHT
TZOFFSETFROM:+0100
TZOFFSETTO:+0200
TZNAME:CEST
DTSTART:20260329T010000
END:DAYLIGHT
BEGIN:STANDARD
TZOFFSETFROM:+0200
TZOFFSETTO:+0100
TZNAME:CET
DTSTART:20261025T010000
END:STANDARD
BEGIN:DAYLIGHT
TZOFFSETFROM:+0100
TZOFFSETTO:+0200
TZNAME:CEST
DTSTART:20270328T010000
END:DAYLIGHT
BEGIN:STANDARD
TZOFFSETFROM:+0200
TZOFFSETTO:+0100
TZNAME:CET
DTSTART:20271031T010000
END:STANDARD
END:VTIMEZONE
BEGIN:VEVENT
DTSTART;TZID=Europe/Berlin:20260114T160000
DTEND;TZID=Europe/Berlin:20260114T173000
DTSTAMP:20260425T125602
CREATED:20250807T111155Z
LAST-MODIFIED:20250807T111155Z
UID:2503-1768406400-1768411800@www.fmgz-nuernberg.de
SUMMARY:Orientalischer Tanz
DESCRIPTION:Orientalischer Tanz fördert mit weichen\, schwungvollen Bewegungen die Beweglichkeit und stärkt auf angenehme Weise die Rücken-\, Bauch- und Beckenbodenmuskulatur.\nDies wirkt Verspannungen im gesamten Wirbelsäulenbereich entgegen und fördert eine gesunde Körperhaltung und ein gutes Körpergefühl. Mit Entspannungseinheiten. \nKursleiterin: Manuela Krick \n4 Termine\, Start Mi. 14.01. \nKurs Nr. 1/3 \nAnmeldung\n \nPreise: 12\,- / 10\,-€
URL:https://www.fmgz-nuernberg.de/veranstaltung/orientalischer-tanz-12/
LOCATION:FMGZ Nürnberg\, Fürther Straße 154 / RG\, Nürnberg\, 90429\, Deutschland
CATEGORIES:Für Körper und Seele
END:VEVENT
BEGIN:VEVENT
DTSTART;TZID=Europe/Berlin:20260114T183000
DTEND;TZID=Europe/Berlin:20260114T200000
DTSTAMP:20260425T125602
CREATED:20250807T111243Z
LAST-MODIFIED:20250807T111243Z
UID:2506-1768415400-1768420800@www.fmgz-nuernberg.de
SUMMARY:TRE - Neurogenes Zittern für den Kiefer
DESCRIPTION:Verbissen\, knirschend und gepresst hält der Kiefer viel Spannung. Mit den Übungen des TRE – Neurogenen Zittern ist dieses Mal der Kiefer im Fokus. Eine Einladung\, den Kiefer zu lockern durch Dehnen\, Berührung und Bewegung. Sie können Druck loslassen\, Spannung ausgleichen und erfrischt\, vielleicht sogar verjüngt in den Alltag zurückkehren. \nKursleiterin: Petra Vetter\, Heilpraktikerin für Psychotherapie \nAchtung Änderung zum gedruckten Programm! \n3 Termine: 14.01.\, 21.01. & 28.01. \nKursnr. 1/4 \nAnmeldung\n \nPreis: 55.- /45.- €
URL:https://www.fmgz-nuernberg.de/veranstaltung/tre-neurogenes-zittern-fuer-den-kiefer-5/
LOCATION:FMGZ Nürnberg\, Fürther Straße 154 / RG\, Nürnberg\, 90429\, Deutschland
CATEGORIES:Für Körper und Seele
END:VEVENT
END:VCALENDAR