BEGIN:VCALENDAR
VERSION:2.0
PRODID:-//Frauen und Mädchen Gesundheitszentrum Nürnberg e.V. - ECPv6.15.20//NONSGML v1.0//EN
CALSCALE:GREGORIAN
METHOD:PUBLISH
X-WR-CALNAME:Frauen und Mädchen Gesundheitszentrum Nürnberg e.V.
X-ORIGINAL-URL:https://www.fmgz-nuernberg.de
X-WR-CALDESC:Veranstaltungen für Frauen und Mädchen Gesundheitszentrum Nürnberg e.V.
REFRESH-INTERVAL;VALUE=DURATION:PT1H
X-Robots-Tag:noindex
X-PUBLISHED-TTL:PT1H
BEGIN:VTIMEZONE
TZID:Europe/Berlin
BEGIN:DAYLIGHT
TZOFFSETFROM:+0100
TZOFFSETTO:+0200
TZNAME:CEST
DTSTART:20240331T010000
END:DAYLIGHT
BEGIN:STANDARD
TZOFFSETFROM:+0200
TZOFFSETTO:+0100
TZNAME:CET
DTSTART:20241027T010000
END:STANDARD
BEGIN:DAYLIGHT
TZOFFSETFROM:+0100
TZOFFSETTO:+0200
TZNAME:CEST
DTSTART:20250330T010000
END:DAYLIGHT
BEGIN:STANDARD
TZOFFSETFROM:+0200
TZOFFSETTO:+0100
TZNAME:CET
DTSTART:20251026T010000
END:STANDARD
BEGIN:DAYLIGHT
TZOFFSETFROM:+0100
TZOFFSETTO:+0200
TZNAME:CEST
DTSTART:20260329T010000
END:DAYLIGHT
BEGIN:STANDARD
TZOFFSETFROM:+0200
TZOFFSETTO:+0100
TZNAME:CET
DTSTART:20261025T010000
END:STANDARD
END:VTIMEZONE
BEGIN:VEVENT
DTSTART;TZID=Europe/Berlin:20250328T190000
DTEND;TZID=Europe/Berlin:20250328T203000
DTSTAMP:20260425T043252
CREATED:20250108T122723Z
LAST-MODIFIED:20250211T103621Z
UID:2183-1743188400-1743193800@www.fmgz-nuernberg.de
SUMMARY:Endometriose und TCM Ernährung
DESCRIPTION:Wie kann die Ernährung nach Traditioneller chinesischer Medizin (TCM) unterstützen bei Endometriose und Kinderwunsch? \nKursleiterin: Miu Yuen\, zertifizierte Ernährungsberaterin nach TCM \nKurs Nr. 3/11\n \nAnmeldung \nPreise: 12\,- / 10\,-€
URL:https://www.fmgz-nuernberg.de/veranstaltung/endometriose-und-tcm-ernaehrung/
CATEGORIES:Informationsabende
END:VEVENT
END:VCALENDAR